BEGIN:VCALENDAR
VERSION:2.0
PRODID:-//The Rutgers Artificial Intelligence and Data Science (RAD) Collaboratory - ECPv6.11.2//NONSGML v1.0//EN
CALSCALE:GREGORIAN
METHOD:PUBLISH
X-WR-CALNAME:The Rutgers Artificial Intelligence and Data Science (RAD) Collaboratory
X-ORIGINAL-URL:https://radcollaboratory.rutgers.edu
X-WR-CALDESC:Events for The Rutgers Artificial Intelligence and Data Science (RAD) Collaboratory
REFRESH-INTERVAL;VALUE=DURATION:PT1H
X-Robots-Tag:noindex
X-PUBLISHED-TTL:PT1H
BEGIN:VTIMEZONE
TZID:UTC
BEGIN:STANDARD
TZOFFSETFROM:+0000
TZOFFSETTO:+0000
TZNAME:UTC
DTSTART:20260101T000000
END:STANDARD
END:VTIMEZONE
BEGIN:VEVENT
DTSTART;TZID=UTC:20260520T083000
DTEND;TZID=UTC:20260520T153000
DTSTAMP:20260424T111424
CREATED:20260206T214252Z
LAST-MODIFIED:20260206T214252Z
UID:2903-1779265800-1779291000@radcollaboratory.rutgers.edu
SUMMARY:13th Annual New Jersey Big Data Alliance Symposium
DESCRIPTION:Register now for the 13th Annual New Jersey Big Data Alliance Symposium which will be held Wednesday\, May 20\, 2026\, at Rowan University in Glassboro\, NJ. This year’s theme is: “Building Accessible & Sustainable AI Ecosystems: People\, Data\, Ethics\, & Infrastructure“. We are honored to feature keynote speakers Dr. Khalifeh Al Jadda (Director of Data Science\, Google) andDr. Jeannette Wing (Executive VP Research\, Columbia University). The agenda includes informative research sessions\, outstanding academic and industry panels\, a student poster competition\, and networking opportunities. The NJBDA Annual Symposium is New Jersey’s premier Big Data and AI conference\, consistently attracting 250+ attendees from industry\, government\, and academia. \nFor the agenda\, registration and other information\, click here for the event page: https://njbda.org/2026-symposium/
URL:https://radcollaboratory.rutgers.edu/event/njbdamay20/
LOCATION:Rowan University\, 201 Mullica Hill Rd\, Glassboro\, New Jersey\, 08028\, United States
CATEGORIES:Regional/National Events
END:VEVENT
END:VCALENDAR