BEGIN:VCALENDAR
VERSION:2.0
PRODID:-//The Rutgers Artificial Intelligence and Data Science (RAD) Collaboratory - ECPv6.11.2//NONSGML v1.0//EN
CALSCALE:GREGORIAN
METHOD:PUBLISH
X-ORIGINAL-URL:https://radcollaboratory.rutgers.edu
X-WR-CALDESC:Events for The Rutgers Artificial Intelligence and Data Science (RAD) Collaboratory
REFRESH-INTERVAL;VALUE=DURATION:PT1H
X-Robots-Tag:noindex
X-PUBLISHED-TTL:PT1H
BEGIN:VTIMEZONE
TZID:UTC
BEGIN:STANDARD
TZOFFSETFROM:+0000
TZOFFSETTO:+0000
TZNAME:UTC
DTSTART:20250101T000000
END:STANDARD
END:VTIMEZONE
BEGIN:VEVENT
DTSTART;TZID=UTC:20250919T100000
DTEND;TZID=UTC:20250919T160000
DTSTAMP:20260420T025318
CREATED:20250904T080031Z
LAST-MODIFIED:20250904T144757Z
UID:2515-1758276000-1758297600@radcollaboratory.rutgers.edu
SUMMARY:Undergraduate Research Discovery Day: Resource Fair
DESCRIPTION:Undergraduate Research Discovery Day (URDD) offers undergraduates a dynamic\, hands-on introduction to research pathways\, programs\, and possibilities. During the URDD Kick-Off and Resource Fair on Friday\, September 19th\, students will learn about various research opportunities\, including ideal timelines for engaging in these activities. Faculty and student panel sessions highlight key engagement experiences\, as well as an undergraduate research resource fair. During Research Discovery Sessions (September 15-26)\, students have the opportunity to participate in smaller\, interactive sessions\, which may include: \n\nLab tours or research facility walk-throughs\nInformal chats about getting started in research\nProgram-specific introductions to research opportunities\n\nMore information is available at https://success.rutgers.edu/success-weeks/undergraduate-research-discovery-days.
URL:https://radcollaboratory.rutgers.edu/event/urdd-2025/
CATEGORIES:Rutgers Events
END:VEVENT
END:VCALENDAR